BEGIN:VCALENDAR
PRODID:-//Compnay Inc//Product Application//EN
VERSION:2.0
METHOD:PUBLISH
BEGIN:VEVENT
DTSTART:20260808T220000Z
DTEND:20260809T215900Z
DTSTAMP:20260425T105238Z
UID:b660f6db-29d0-4802-a79d-2ec3c038d8b5
CREATED:20260425T105238Z
DESCRIPTION:https://www.oldtimerweb.nl/oldtimer-evenementen/augustus-rit-oldtimer-vrienden-wijchen_19972.aspx
LAST-MODIFIED:20260425T105238Z
LOCATION:Heumenseweg  192\, 6603KT Wijchen\, NL
SEQUENCE:0
STATUS:CONFIRMED
SUMMARY:Augustus rit Oldtimer Vrienden Wijchen
TRANSP:OPAQUE
END:VEVENT
END:VCALENDAR
