BEGIN:VCALENDAR
PRODID:-//Compnay Inc//Product Application//EN
VERSION:2.0
METHOD:PUBLISH
BEGIN:VEVENT
DTSTART:20260711T220000Z
DTEND:20260712T215900Z
DTSTAMP:20260425T105501Z
UID:02c8c673-af93-4f69-9004-d35781af644f
CREATED:20260425T105501Z
DESCRIPTION:https://www.oldtimerweb.nl/oldtimer-evenementen/zomerrit-oldtimer-vrienden-wijchen_19971.aspx
LAST-MODIFIED:20260425T105501Z
LOCATION:Heumenseweg  192\, 6603KT Wijchen\, NL
SEQUENCE:0
STATUS:CONFIRMED
SUMMARY:Zomerrit Oldtimer Vrienden Wijchen
TRANSP:OPAQUE
END:VEVENT
END:VCALENDAR
