BEGIN:VCALENDAR
PRODID:-//Compnay Inc//Product Application//EN
VERSION:2.0
METHOD:PUBLISH
BEGIN:VEVENT
DTSTART:20260516T220000Z
DTEND:20260517T215900Z
DTSTAMP:20260425T105238Z
UID:25b74450-554b-47c9-a3c5-ddbf2208669c
CREATED:20260425T105238Z
DESCRIPTION:https://www.oldtimerweb.nl/oldtimer-evenementen/tussendoor-rit-ovw_19970.aspx
LAST-MODIFIED:20260425T105238Z
LOCATION:Heumenseweg  192\, 6603KT Wijchen\, NL
SEQUENCE:0
STATUS:CONFIRMED
SUMMARY:Tussendoor rit OVW
TRANSP:OPAQUE
END:VEVENT
END:VCALENDAR
