BEGIN:VCALENDAR
PRODID:-//Compnay Inc//Product Application//EN
VERSION:2.0
METHOD:PUBLISH
BEGIN:VEVENT
DTSTART:20260703T220000Z
DTEND:20260705T215900Z
DTSTAMP:20260425T104542Z
UID:ef2dc31b-fd6c-4aa3-9335-a2197a5ab9c1
CREATED:20260425T104542Z
DESCRIPTION:https://www.oldtimerweb.nl/oldtimer-evenementen/oldtimer-event-rekken_19914.aspx
LAST-MODIFIED:20260425T104542Z
LOCATION:Oldenkotseweg 11\, 7157 BV Rekken\, NL
SEQUENCE:0
STATUS:CONFIRMED
SUMMARY:Oldtimer Event Rekken
TRANSP:OPAQUE
END:VEVENT
END:VCALENDAR
