BEGIN:VCALENDAR
PRODID:-//Compnay Inc//Product Application//EN
VERSION:2.0
METHOD:PUBLISH
BEGIN:VEVENT
DTSTART:20260703T220000Z
DTEND:20260705T215900Z
DTSTAMP:20260425T104913Z
UID:bdc7b703-66d1-4e80-880d-bb8d75685f55
CREATED:20260425T104913Z
DESCRIPTION:https://www.oldtimerweb.nl/oldtimer-evenementen/z1-on-tour-7de-editie_19845.aspx
LAST-MODIFIED:20260425T104913Z
LOCATION:5911 Venlo\, NL
SEQUENCE:0
STATUS:CONFIRMED
SUMMARY:Z1 on tour - 7de editie
TRANSP:OPAQUE
END:VEVENT
END:VCALENDAR
