BEGIN:VCALENDAR
PRODID:-//Compnay Inc//Product Application//EN
VERSION:2.0
METHOD:PUBLISH
BEGIN:VEVENT
DTSTART:20260606T220000Z
DTEND:20260607T215900Z
DTSTAMP:20260425T120616Z
UID:6a889182-6339-4fcb-8d16-fce88ebb0a1e
CREATED:20260425T120616Z
DESCRIPTION:https://www.oldtimerweb.nl/oldtimer-evenementen/zeeuws-vlaanderen-rally-1985_19559.aspx
LAST-MODIFIED:20260425T120616Z
LOCATION:Noteneeweg  28\, 4535 AS Terneuzen\, NL
SEQUENCE:0
STATUS:CONFIRMED
SUMMARY:Zeeuws Vlaanderen Rally <1985
TRANSP:OPAQUE
END:VEVENT
END:VCALENDAR
