BEGIN:VCALENDAR
PRODID:-//Compnay Inc//Product Application//EN
VERSION:2.0
METHOD:PUBLISH
BEGIN:VEVENT
DTSTART:20260702T220000Z
DTEND:20260705T215900Z
DTSTAMP:20260425T103012Z
UID:dac8a512-4445-4e7f-abc8-45b5fb7148bf
CREATED:20260425T103012Z
DESCRIPTION:https://www.oldtimerweb.nl/oldtimer-evenementen/magifest_19531.aspx
LAST-MODIFIED:20260425T103012Z
LOCATION:Megelsum 4\, 5865 CV Meerlo\, NL
SEQUENCE:0
STATUS:CONFIRMED
SUMMARY:Magifest
TRANSP:OPAQUE
END:VEVENT
END:VCALENDAR
