BEGIN:VCALENDAR
PRODID:-//Compnay Inc//Product Application//EN
VERSION:2.0
METHOD:PUBLISH
BEGIN:VEVENT
DTSTART:20250510T220000Z
DTEND:20250511T215900Z
DTSTAMP:20260422T085717Z
UID:971eccda-ec94-4da6-9d88-440f5d54d13f
CREATED:20260422T085717Z
DESCRIPTION:https://www.oldtimerweb.nl/oldtimer-evenementen/square-mountain-rally_18831.aspx
LAST-MODIFIED:20260422T085717Z
LOCATION:Industriestraat 70A\, 7482 EX Haaksbergen\, NL
SEQUENCE:0
STATUS:CONFIRMED
SUMMARY:Square Mountain Rally
TRANSP:OPAQUE
END:VEVENT
END:VCALENDAR
