BEGIN:VCALENDAR
PRODID:-//Compnay Inc//Product Application//EN
VERSION:2.0
METHOD:PUBLISH
BEGIN:VEVENT
DTSTART:20250719T220000Z
DTEND:20250720T215900Z
DTSTAMP:20260420T035843Z
UID:15cc2a42-4faf-4ae9-86cd-f59413eacc2e
CREATED:20260420T035843Z
DESCRIPTION:https://www.oldtimerweb.nl/oldtimer-evenementen/the-hunebed-summer-meet_18678.aspx
LAST-MODIFIED:20260420T035843Z
LOCATION:Van Helomaweg 47\, 7973 JC Darp\, NL
SEQUENCE:0
STATUS:CONFIRMED
SUMMARY:The Hunebed Summer Meet
TRANSP:OPAQUE
END:VEVENT
END:VCALENDAR
