BEGIN:VCALENDAR
PRODID:-//Compnay Inc//Product Application//EN
VERSION:2.0
METHOD:PUBLISH
BEGIN:VEVENT
DTSTART:20250517T220000Z
DTEND:20250518T215900Z
DTSTAMP:20260423T102734Z
UID:ec5316ee-d0a7-4119-8550-f43c5e0bc2b4
CREATED:20260423T102734Z
DESCRIPTION:https://www.oldtimerweb.nl/oldtimer-evenementen/baek-voiture_18614.aspx
LAST-MODIFIED:20260423T102734Z
LOCATION:Wolfeynde 1\, 6191 KB Beek\, NL
SEQUENCE:0
STATUS:CONFIRMED
SUMMARY:Baek Voiture
TRANSP:OPAQUE
END:VEVENT
END:VCALENDAR
