BEGIN:VCALENDAR
PRODID:-//Compnay Inc//Product Application//EN
VERSION:2.0
METHOD:PUBLISH
BEGIN:VEVENT
DTSTART:20250412T220000Z
DTEND:20250413T215900Z
DTSTAMP:20260422T105552Z
UID:af70201f-776b-49d4-8690-25d3f4983163
CREATED:20260422T105552Z
DESCRIPTION:https://www.oldtimerweb.nl/oldtimer-evenementen/32e-nationale-tweetaktdag_18533.aspx
LAST-MODIFIED:20260422T105552Z
LOCATION:Hild 1\, 5066 CL Moergestel\, NL
SEQUENCE:0
STATUS:CONFIRMED
SUMMARY:32e Nationale Tweetaktdag
TRANSP:OPAQUE
END:VEVENT
END:VCALENDAR
