BEGIN:VCALENDAR
PRODID:-//Compnay Inc//Product Application//EN
VERSION:2.0
METHOD:PUBLISH
BEGIN:VEVENT
DTSTART:20250530T220000Z
DTEND:20250531T215900Z
DTSTAMP:20260422T093906Z
UID:9585a4e6-750a-4ab9-8eb1-7538ba8c5116
CREATED:20260422T093906Z
DESCRIPTION:https://www.oldtimerweb.nl/oldtimer-evenementen/oldtimerdag-de-krim_18258.aspx
LAST-MODIFIED:20260422T093906Z
LOCATION:Beukenlaan 1a\, 7782RP Hardenberg\, NL
SEQUENCE:0
STATUS:CONFIRMED
SUMMARY:Oldtimerdag De Krim
TRANSP:OPAQUE
END:VEVENT
END:VCALENDAR
