BEGIN:VCALENDAR
PRODID:-//Compnay Inc//Product Application//EN
VERSION:2.0
METHOD:PUBLISH
BEGIN:VEVENT
DTSTART:20230128T230000Z
DTEND:20230129T225900Z
DTSTAMP:20260421T170047Z
UID:b70cf01a-607a-4f51-b2c8-2925eb2eb958
CREATED:20260421T170047Z
DESCRIPTION:https://www.oldtimerweb.nl/oldtimer-evenementen/midwinter-classic_15885.aspx
LAST-MODIFIED:20260421T170047Z
LOCATION:Groenvelderweg 3\, 1746 EE Dirkshorn\, NL
SEQUENCE:0
STATUS:CONFIRMED
SUMMARY:Midwinter Classic
TRANSP:OPAQUE
END:VEVENT
END:VCALENDAR
