BEGIN:VCALENDAR
PRODID:-//Compnay Inc//Product Application//EN
VERSION:2.0
METHOD:PUBLISH
BEGIN:VEVENT
DTSTART:20220923T220000Z
DTEND:20220924T215900Z
DTSTAMP:20260424T113421Z
UID:6fae36ab-1655-47f0-bfbd-61f283357350
CREATED:20260424T113421Z
DESCRIPTION:https://www.oldtimerweb.nl/oldtimer-evenementen/autodocumentatiebeurs-haaren_15649.aspx
LAST-MODIFIED:20260424T113421Z
LOCATION:Kerkstaat 26\, 5076 AW Haaren\, NL
SEQUENCE:0
STATUS:CONFIRMED
SUMMARY:Autodocumentatiebeurs Haaren
TRANSP:OPAQUE
END:VEVENT
END:VCALENDAR
