BEGIN:VCALENDAR
PRODID:-//Compnay Inc//Product Application//EN
VERSION:2.0
METHOD:PUBLISH
BEGIN:VEVENT
DTSTART:20220820T220000Z
DTEND:20220821T215900Z
DTSTAMP:20260421T024206Z
UID:bed9537d-b16c-44e8-91d6-328830f58660
CREATED:20260421T024206Z
DESCRIPTION:https://www.oldtimerweb.nl/oldtimer-evenementen/toertocht-vooroorlogse-odtimers_15503.aspx
LAST-MODIFIED:20260421T024206Z
LOCATION:Uffelse straat 5\, 6012 RM Haler\, NL
SEQUENCE:0
STATUS:CONFIRMED
SUMMARY:Toertocht Vooroorlogse odtimers
TRANSP:OPAQUE
END:VEVENT
END:VCALENDAR
