BEGIN:VCALENDAR
PRODID:-//Compnay Inc//Product Application//EN
VERSION:2.0
METHOD:PUBLISH
BEGIN:VEVENT
DTSTART:20220723T220000Z
DTEND:20220724T215900Z
DTSTAMP:20260422T031909Z
UID:26f37fe0-84f8-482c-870d-675f6ff5f790
CREATED:20260422T031909Z
DESCRIPTION:https://www.oldtimerweb.nl/oldtimer-evenementen/rondrit-zuid-nederland_15415.aspx
LAST-MODIFIED:20260422T031909Z
LOCATION:Grensweg 21\, 4411 St-Rilland-Bath\, NL
SEQUENCE:0
STATUS:CONFIRMED
SUMMARY:Rondrit Zuid Nederland
TRANSP:OPAQUE
END:VEVENT
END:VCALENDAR
