BEGIN:VCALENDAR
PRODID:-//Compnay Inc//Product Application//EN
VERSION:2.0
METHOD:PUBLISH
BEGIN:VEVENT
DTSTART:20220716T220000Z
DTEND:20220717T215900Z
DTSTAMP:20260419T154819Z
UID:b35c1ec1-4b5a-4b62-ab98-3693330861d9
CREATED:20260419T154819Z
DESCRIPTION:https://www.oldtimerweb.nl/oldtimer-evenementen/club-four-tour_15392.aspx
LAST-MODIFIED:20260419T154819Z
LOCATION:Grotestraat 97\, 5836 AD Sambeek\, NL
SEQUENCE:0
STATUS:CONFIRMED
SUMMARY:Club Four Tour
TRANSP:OPAQUE
END:VEVENT
END:VCALENDAR
