BEGIN:VCALENDAR
PRODID:-//Compnay Inc//Product Application//EN
VERSION:2.0
METHOD:PUBLISH
BEGIN:VEVENT
DTSTART:20220723T220000Z
DTEND:20220724T215900Z
DTSTAMP:20260422T222924Z
UID:4f68be40-27ae-4bb6-bda1-3762cd4bc4a2
CREATED:20260422T222924Z
DESCRIPTION:https://www.oldtimerweb.nl/oldtimer-evenementen/oldtimerdag-ballonfeesten-joure_15311.aspx
LAST-MODIFIED:20260422T222924Z
LOCATION:Harddraversweg 59\, 8501 CL Joure\, NL
SEQUENCE:0
STATUS:CONFIRMED
SUMMARY:Oldtimerdag Ballonfeesten Joure
TRANSP:OPAQUE
END:VEVENT
END:VCALENDAR
