BEGIN:VCALENDAR
PRODID:-//Compnay Inc//Product Application//EN
VERSION:2.0
METHOD:PUBLISH
BEGIN:VEVENT
DTSTART:20220604T220000Z
DTEND:20220605T215900Z
DTSTAMP:20260420T222115Z
UID:563a3a2e-40dd-4006-8d06-858de830267a
CREATED:20260420T222115Z
DESCRIPTION:https://www.oldtimerweb.nl/oldtimer-evenementen/oldtimer-peelrit_15200.aspx
LAST-MODIFIED:20260420T222115Z
LOCATION:Helenaveenseweg 10\, 5766 PB Griendtsveen\, NL
SEQUENCE:0
STATUS:CONFIRMED
SUMMARY:Oldtimer Peelrit
TRANSP:OPAQUE
END:VEVENT
END:VCALENDAR
