BEGIN:VCALENDAR
PRODID:-//Compnay Inc//Product Application//EN
VERSION:2.0
METHOD:PUBLISH
BEGIN:VEVENT
DTSTART:20220519T220000Z
DTEND:20220522T215900Z
DTSTAMP:20260422T005759Z
UID:ff890bb8-4cea-41ac-b8aa-709fb99d675f
CREATED:20260422T005759Z
DESCRIPTION:https://www.oldtimerweb.nl/oldtimer-evenementen/dordt-in-stoom_15196.aspx
LAST-MODIFIED:20260422T005759Z
LOCATION:Dordrecht\, NL
SEQUENCE:0
STATUS:CONFIRMED
SUMMARY:Dordt in Stoom
TRANSP:OPAQUE
END:VEVENT
END:VCALENDAR
