BEGIN:VCALENDAR
PRODID:-//Compnay Inc//Product Application//EN
VERSION:2.0
METHOD:PUBLISH
BEGIN:VEVENT
DTSTART:20220519T220000Z
DTEND:20220522T215900Z
DTSTAMP:20260419T145545Z
UID:d39f897c-2353-4525-b835-12bad83fdb36
CREATED:20260419T145545Z
DESCRIPTION:https://www.oldtimerweb.nl/oldtimer-evenementen/de-walm-oldtimerweekend_15195.aspx
LAST-MODIFIED:20260419T145545Z
LOCATION:Bredaseweg\, 4882 DD Zundert\, NL
SEQUENCE:0
STATUS:CONFIRMED
SUMMARY:De Walm oldtimerweekend
TRANSP:OPAQUE
END:VEVENT
END:VCALENDAR
