BEGIN:VCALENDAR
PRODID:-//Compnay Inc//Product Application//EN
VERSION:2.0
METHOD:PUBLISH
BEGIN:VEVENT
DTSTART:20220527T220000Z
DTEND:20220528T215900Z
DTSTAMP:20260422T085815Z
UID:8a17b2d3-f978-438c-85fa-d464e7d549d6
CREATED:20260422T085815Z
DESCRIPTION:https://www.oldtimerweb.nl/oldtimer-evenementen/romijn-meeting-opel-treffen_15181.aspx
LAST-MODIFIED:20260422T085815Z
LOCATION:Utrechtseweg 26\, 3927 AV Renswoude\, NL
SEQUENCE:0
STATUS:CONFIRMED
SUMMARY:Romijn Meeting Opel Treffen
TRANSP:OPAQUE
END:VEVENT
END:VCALENDAR
