BEGIN:VCALENDAR
PRODID:-//Compnay Inc//Product Application//EN
VERSION:2.0
METHOD:PUBLISH
BEGIN:VEVENT
DTSTART:20220806T220000Z
DTEND:20220807T215900Z
DTSTAMP:20260425T154127Z
UID:0ba7b7d4-9a7d-4810-9e04-47e3be41005a
CREATED:20260425T154127Z
DESCRIPTION:https://www.oldtimerweb.nl/oldtimer-evenementen/oldtimer-rondrit-groene-hart-zuid-holland_15151.aspx
LAST-MODIFIED:20260425T154127Z
LOCATION:Dorpsstraat 250\, 2391 CK Hazerswoude-Dorp\, NL
SEQUENCE:0
STATUS:CONFIRMED
SUMMARY:Oldtimer-rondrit Groene Hart Zuid-Holland
TRANSP:OPAQUE
END:VEVENT
END:VCALENDAR
