BEGIN:VCALENDAR
PRODID:-//Compnay Inc//Product Application//EN
VERSION:2.0
METHOD:PUBLISH
BEGIN:VEVENT
DTSTART:20220525T220000Z
DTEND:20220526T215900Z
DTSTAMP:20260421T194204Z
UID:f51673e2-50b5-4f97-ba76-0d735784eb3d
CREATED:20260421T194204Z
DESCRIPTION:https://www.oldtimerweb.nl/oldtimer-evenementen/oldtimerfestival-axel_15139.aspx
LAST-MODIFIED:20260421T194204Z
LOCATION:Nassaustraat\, 4571DA Axel\, NL
SEQUENCE:0
STATUS:CONFIRMED
SUMMARY:Oldtimerfestival Axel
TRANSP:OPAQUE
END:VEVENT
END:VCALENDAR
