BEGIN:VCALENDAR
PRODID:-//Compnay Inc//Product Application//EN
VERSION:2.0
METHOD:PUBLISH
BEGIN:VEVENT
DTSTART:20220611T220000Z
DTEND:20220612T215900Z
DTSTAMP:20260422T014613Z
UID:60aff563-5cf4-492e-85b0-40f47735e34e
CREATED:20260422T014613Z
DESCRIPTION:https://www.oldtimerweb.nl/oldtimer-evenementen/retro-car-club-classics-tour-ism-garage-valckenier_15096.aspx
LAST-MODIFIED:20260422T014613Z
LOCATION:Grasdreef 2\, 8200 Brugge\, BE
SEQUENCE:0
STATUS:CONFIRMED
SUMMARY:Retro Car Club Classics Tour ism Garage Valckenier
TRANSP:OPAQUE
END:VEVENT
END:VCALENDAR
