BEGIN:VCALENDAR
PRODID:-//Compnay Inc//Product Application//EN
VERSION:2.0
METHOD:PUBLISH
BEGIN:VEVENT
DTSTART:20220514T220000Z
DTEND:20220515T215900Z
DTSTAMP:20260422T010158Z
UID:4f0fb133-3dca-4121-bbdb-3c6544d6b942
CREATED:20260422T010158Z
DESCRIPTION:https://www.oldtimerweb.nl/oldtimer-evenementen/tussendoorrit-oldtimer-vrienden-wijchen_15062.aspx
LAST-MODIFIED:20260422T010158Z
LOCATION:Leurseweg 4\, 6615AJ Leur\, NL
SEQUENCE:0
STATUS:CONFIRMED
SUMMARY:Tussendoorrit Oldtimer Vrienden Wijchen
TRANSP:OPAQUE
END:VEVENT
END:VCALENDAR
