BEGIN:VCALENDAR
PRODID:-//Compnay Inc//Product Application//EN
VERSION:2.0
METHOD:PUBLISH
BEGIN:VEVENT
DTSTART:20220409T220000Z
DTEND:20220410T215900Z
DTSTAMP:20260422T114933Z
UID:8d9a156c-7a7f-4f2e-b494-5912fd5b6012
CREATED:20260422T114933Z
DESCRIPTION:https://www.oldtimerweb.nl/oldtimer-evenementen/lenterit-ovw_14884.aspx
LAST-MODIFIED:20260422T114933Z
LOCATION:Leurseweg 4\, 6615AJ Leur\, NL
SEQUENCE:0
STATUS:CONFIRMED
SUMMARY:Lenterit OVW
TRANSP:OPAQUE
END:VEVENT
END:VCALENDAR
