BEGIN:VCALENDAR
PRODID:-//Compnay Inc//Product Application//EN
VERSION:2.0
METHOD:PUBLISH
BEGIN:VEVENT
DTSTART:20220409T220000Z
DTEND:20220410T215900Z
DTSTAMP:20260425T115811Z
UID:2fbc5ca9-1e14-4c50-a525-75c251ff642f
CREATED:20260425T115811Z
DESCRIPTION:https://www.oldtimerweb.nl/oldtimer-evenementen/rotary-rijnwoude-bollenrit_14725.aspx
LAST-MODIFIED:20260425T115811Z
LOCATION:Italielaan 4\, 2391 PT Hazerswoude-Dorp\, NL
SEQUENCE:0
STATUS:CONFIRMED
SUMMARY:Rotary Rijnwoude Bollenrit
TRANSP:OPAQUE
END:VEVENT
END:VCALENDAR
