BEGIN:VCALENDAR
PRODID:-//Compnay Inc//Product Application//EN
VERSION:2.0
METHOD:PUBLISH
BEGIN:VEVENT
DTSTART:20221001T220000Z
DTEND:20221005T215900Z
DTSTAMP:20260424T094531Z
UID:6eb1081c-fdcb-4057-ae0a-c0db21fb6878
CREATED:20260424T094531Z
DESCRIPTION:https://www.oldtimerweb.nl/oldtimer-evenementen/tour-des-ardennes_14715.aspx
LAST-MODIFIED:20260424T094531Z
LOCATION:Eindhovenseweg 264\, 5553 AA Valkenswaard\, NL
SEQUENCE:0
STATUS:CONFIRMED
SUMMARY:Tour des Ardennes
TRANSP:OPAQUE
END:VEVENT
END:VCALENDAR
