BEGIN:VCALENDAR
PRODID:-//Compnay Inc//Product Application//EN
VERSION:2.0
METHOD:PUBLISH
BEGIN:VEVENT
DTSTART:20220617T220000Z
DTEND:20220618T215900Z
DTSTAMP:20260423T102650Z
UID:fb2fc08d-4c97-4a67-ace6-7d902c5a48c8
CREATED:20260423T102650Z
DESCRIPTION:https://www.oldtimerweb.nl/oldtimer-evenementen/oldtimer-festival-veenendaal_14636.aspx
LAST-MODIFIED:20260423T102650Z
LOCATION:Groeneveldselaan 7\, 3902 HA Veenendaal\, NL
SEQUENCE:0
STATUS:CONFIRMED
SUMMARY:Oldtimer Festival Veenendaal
TRANSP:OPAQUE
END:VEVENT
END:VCALENDAR
