BEGIN:VCALENDAR
PRODID:-//Compnay Inc//Product Application//EN
VERSION:2.0
METHOD:PUBLISH
BEGIN:VEVENT
DTSTART:20220909T220000Z
DTEND:20220910T215900Z
DTSTAMP:20260421T143558Z
UID:595ac5ad-e532-4fe1-b3b4-5b267c8cc574
CREATED:20260421T143558Z
DESCRIPTION:https://www.oldtimerweb.nl/oldtimer-evenementen/waalre-classic-car-rally_14633.aspx
LAST-MODIFIED:20260421T143558Z
LOCATION:Markt\, 5581 GK Waalre\, NL
SEQUENCE:0
STATUS:CONFIRMED
SUMMARY:Waalre Classic Car Rally
TRANSP:OPAQUE
END:VEVENT
END:VCALENDAR
