BEGIN:VCALENDAR
PRODID:-//Compnay Inc//Product Application//EN
VERSION:2.0
METHOD:PUBLISH
BEGIN:VEVENT
DTSTART:20220430T220000Z
DTEND:20220501T215900Z
DTSTAMP:20260419T144404Z
UID:9193d373-1c02-472c-aea4-21e56fa2529d
CREATED:20260419T144404Z
DESCRIPTION:https://www.oldtimerweb.nl/oldtimer-evenementen/betuwse-fruit-rally_14632.aspx
LAST-MODIFIED:20260419T144404Z
LOCATION:Kleibergsestraat 7\, 4001LE Tiel\, NL
SEQUENCE:0
STATUS:CONFIRMED
SUMMARY:Betuwse Fruit Rally
TRANSP:OPAQUE
END:VEVENT
END:VCALENDAR
