BEGIN:VCALENDAR
PRODID:-//Compnay Inc//Product Application//EN
VERSION:2.0
METHOD:PUBLISH
BEGIN:VEVENT
DTSTART:20210831T220000Z
DTEND:20210901T215900Z
DTSTAMP:20260425T210649Z
UID:90fff715-4b48-4b5a-82fc-577cce7632b2
CREATED:20260425T210649Z
DESCRIPTION:https://www.oldtimerweb.nl/oldtimer-evenementen/rode-kruis-rijtour-ijsselland_14134.aspx
LAST-MODIFIED:20260425T210649Z
LOCATION:Den Alerdinckweg 1\, 8055PE Laag Zuthem\, NL
SEQUENCE:0
STATUS:CONFIRMED
SUMMARY:Rode Kruis Rijtour IJsselland
TRANSP:OPAQUE
END:VEVENT
END:VCALENDAR
