BEGIN:VCALENDAR
PRODID:-//Compnay Inc//Product Application//EN
VERSION:2.0
METHOD:PUBLISH
BEGIN:VEVENT
DTSTART:20191004T220000Z
DTEND:20191005T215900Z
DTSTAMP:20260422T084515Z
UID:645214a4-0e42-4b01-98fb-8855c4344e07
CREATED:20260422T084515Z
DESCRIPTION:https://www.oldtimerweb.nl/oldtimer-evenementen/dutch-automotive-festival_13060.aspx
LAST-MODIFIED:20260422T084515Z
LOCATION:Automotive Campus 30\, 5708 JZ Helmond\, NL
SEQUENCE:0
STATUS:CONFIRMED
SUMMARY:Dutch Automotive Festival
TRANSP:OPAQUE
END:VEVENT
END:VCALENDAR
