BEGIN:VCALENDAR
PRODID:-//Compnay Inc//Product Application//EN
VERSION:2.0
METHOD:PUBLISH
BEGIN:VEVENT
DTSTART:20190928T220000Z
DTEND:20190929T215900Z
DTSTAMP:20260423T084612Z
UID:007c9ab0-b940-4aec-b18d-67539dc98f6f
CREATED:20260423T084612Z
DESCRIPTION:https://www.oldtimerweb.nl/oldtimer-evenementen/citroen-a-t-m-zx-markt_12850.aspx
LAST-MODIFIED:20260423T084612Z
LOCATION:Stationstraat\, 6442 AA Simpelveld\, NL
SEQUENCE:0
STATUS:CONFIRMED
SUMMARY:Citroën A t/m ZX markt
TRANSP:OPAQUE
END:VEVENT
END:VCALENDAR
