BEGIN:VCALENDAR
PRODID:-//Compnay Inc//Product Application//EN
VERSION:2.0
METHOD:PUBLISH
BEGIN:VEVENT
DTSTART:20190928T220000Z
DTEND:20190929T215900Z
DTSTAMP:20260423T084734Z
UID:91791c5c-bc71-49f7-8624-756b92271db5
CREATED:20260423T084734Z
DESCRIPTION:https://www.oldtimerweb.nl/oldtimer-evenementen/oldtimer-toertocht-heeten-ov_12528.aspx
LAST-MODIFIED:20260423T084734Z
LOCATION:De Telgen\, 8111CM Heeten\, NL
SEQUENCE:0
STATUS:CONFIRMED
SUMMARY:Oldtimer toertocht Heeten (ov)
TRANSP:OPAQUE
END:VEVENT
END:VCALENDAR
