BEGIN:VCALENDAR
PRODID:-//Compnay Inc//Product Application//EN
VERSION:2.0
METHOD:PUBLISH
BEGIN:VEVENT
DTSTART:20190504T220000Z
DTEND:20190505T215900Z
DTSTAMP:20260423T102735Z
UID:01975246-425b-4208-b13b-6f79e4e9570d
CREATED:20260423T102735Z
DESCRIPTION:https://www.oldtimerweb.nl/oldtimer-evenementen/usa-cars-meeting_12385.aspx
LAST-MODIFIED:20260423T102735Z
LOCATION:Ring 1\, 2910 Essen\, BE
SEQUENCE:0
STATUS:CONFIRMED
SUMMARY:USA Cars Meeting
TRANSP:OPAQUE
END:VEVENT
END:VCALENDAR
