BEGIN:VCALENDAR
PRODID:-//Compnay Inc//Product Application//EN
VERSION:2.0
METHOD:PUBLISH
BEGIN:VEVENT
DTSTART:20190413T220000Z
DTEND:20190414T215900Z
DTSTAMP:20260422T123443Z
UID:27d6e670-0f4c-40b0-bfae-07013ba5fe4f
CREATED:20260422T123443Z
DESCRIPTION:https://www.oldtimerweb.nl/oldtimer-evenementen/2de-rit-oldtimervereniging-goud-van-oud_12153.aspx
LAST-MODIFIED:20260422T123443Z
LOCATION:Hespelpad 9\, 5107 NT Dongen\, NL
SEQUENCE:0
STATUS:CONFIRMED
SUMMARY:2de rit oldtimervereniging Goud van Oud
TRANSP:OPAQUE
END:VEVENT
END:VCALENDAR
