BEGIN:VCALENDAR
PRODID:-//Compnay Inc//Product Application//EN
VERSION:2.0
METHOD:PUBLISH
BEGIN:VEVENT
DTSTART:20190518T220000Z
DTEND:20190519T215900Z
DTSTAMP:20260423T102734Z
UID:b3ab41cd-102d-4776-b7aa-62f1cec3571d
CREATED:20260423T102734Z
DESCRIPTION:https://www.oldtimerweb.nl/oldtimer-evenementen/2e-velsener-oldtimerdag_12053.aspx
LAST-MODIFIED:20260423T102734Z
LOCATION:Vestingplein\, 1991 RK Velserbroek\, NL
SEQUENCE:0
STATUS:CONFIRMED
SUMMARY:2e Velsener Oldtimerdag
TRANSP:OPAQUE
END:VEVENT
END:VCALENDAR
