BEGIN:VCALENDAR
PRODID:-//Compnay Inc//Product Application//EN
VERSION:2.0
METHOD:PUBLISH
BEGIN:VEVENT
DTSTART:20181103T230000Z
DTEND:20181104T225900Z
DTSTAMP:20260422T085637Z
UID:4d96c9e1-0c2f-4300-b8df-693cf3f8519c
CREATED:20260422T085637Z
DESCRIPTION:https://www.oldtimerweb.nl/oldtimer-evenementen/an-american-day_11541.aspx
LAST-MODIFIED:20260422T085637Z
LOCATION:Busschopsweg 9\, 6093 AA Heythuysen\, NL
SEQUENCE:0
STATUS:CONFIRMED
SUMMARY:An American Day
TRANSP:OPAQUE
END:VEVENT
END:VCALENDAR
