BEGIN:VCALENDAR
PRODID:-//Compnay Inc//Product Application//EN
VERSION:2.0
METHOD:PUBLISH
BEGIN:VEVENT
DTSTART:20181005T220000Z
DTEND:20181006T215900Z
DTSTAMP:20260422T085553Z
UID:1687a50a-8ee3-4b80-b2a3-a132ee892768
CREATED:20260422T085553Z
DESCRIPTION:https://www.oldtimerweb.nl/oldtimer-evenementen/sponsorrit-tbv-stichting-2handswork_11460.aspx
LAST-MODIFIED:20260422T085553Z
LOCATION:Tapijnkazerne 24\, 6211ME Maastricht\, NL
SEQUENCE:0
STATUS:CONFIRMED
SUMMARY:Sponsorrit t.b.v. Stichting 2Hands@Work
TRANSP:OPAQUE
END:VEVENT
END:VCALENDAR
