BEGIN:VCALENDAR
PRODID:-//Compnay Inc//Product Application//EN
VERSION:2.0
METHOD:PUBLISH
BEGIN:VEVENT
DTSTART:20181003T220000Z
DTEND:20181007T215900Z
DTSTAMP:20260422T104843Z
UID:4b4fd598-8b6b-4762-b1c8-2047d773a8dc
CREATED:20260422T104843Z
DESCRIPTION:https://www.oldtimerweb.nl/oldtimer-evenementen/zoute-grand-prix_11413.aspx
LAST-MODIFIED:20260422T104843Z
LOCATION:Albertplein\, 8300 Knokke-Heist\, BE
SEQUENCE:0
STATUS:CONFIRMED
SUMMARY:Zoute Grand Prix
TRANSP:OPAQUE
END:VEVENT
END:VCALENDAR
