BEGIN:VCALENDAR
PRODID:-//Compnay Inc//Product Application//EN
VERSION:2.0
METHOD:PUBLISH
BEGIN:VEVENT
DTSTART:20180908T220000Z
DTEND:20180909T215900Z
DTSTAMP:20260422T084748Z
UID:3c4354f3-6608-41d4-99d1-e651849d24cf
CREATED:20260422T084748Z
DESCRIPTION:https://www.oldtimerweb.nl/oldtimer-evenementen/oude-segmententoer-motoren-t-m-1940_11150.aspx
LAST-MODIFIED:20260422T084748Z
LOCATION:Moerkantsebaan 54\, 2910 Essen\, BE
SEQUENCE:0
STATUS:CONFIRMED
SUMMARY:Oude segmententoer - motoren t/m 1940
TRANSP:OPAQUE
END:VEVENT
END:VCALENDAR
