BEGIN:VCALENDAR
PRODID:-//Compnay Inc//Product Application//EN
VERSION:2.0
METHOD:PUBLISH
BEGIN:VEVENT
DTSTART:20180608T220000Z
DTEND:20180609T215900Z
DTSTAMP:20260419T183808Z
UID:13a54342-30e6-43aa-a91c-dcd0e7af9d2f
CREATED:20260419T183808Z
DESCRIPTION:https://www.oldtimerweb.nl/oldtimer-evenementen/classic-races-wemeldinge_10920.aspx
LAST-MODIFIED:20260419T183808Z
LOCATION:Oostelijke Kanaalweg\, 4424 NC Wemeldinge\, NL
SEQUENCE:0
STATUS:CONFIRMED
SUMMARY:Classic Races Wemeldinge
TRANSP:OPAQUE
END:VEVENT
END:VCALENDAR
