BEGIN:VCALENDAR
PRODID:-//Compnay Inc//Product Application//EN
VERSION:2.0
METHOD:PUBLISH
BEGIN:VEVENT
DTSTART:20180414T220000Z
DTEND:20180415T215900Z
DTSTAMP:20260422T105953Z
UID:7c4ee07d-9488-4fef-a922-38a8538bc302
CREATED:20260422T105953Z
DESCRIPTION:https://www.oldtimerweb.nl/oldtimer-evenementen/met-retrodrivers-van-west-naar-oost_10778.aspx
LAST-MODIFIED:20260422T105953Z
LOCATION:Bavelseweg 165\, 5124 PX Molenschot\, NL
SEQUENCE:0
STATUS:CONFIRMED
SUMMARY:Met Retrodrivers "Van West Naar Oost"
TRANSP:OPAQUE
END:VEVENT
END:VCALENDAR
