BEGIN:VCALENDAR
PRODID:-//Compnay Inc//Product Application//EN
VERSION:2.0
METHOD:PUBLISH
BEGIN:VEVENT
DTSTART:20180406T220000Z
DTEND:20180407T215900Z
DTSTAMP:20260420T094323Z
UID:7df1519d-d9f7-411a-982b-97333f04fd73
CREATED:20260420T094323Z
DESCRIPTION:https://www.oldtimerweb.nl/oldtimer-evenementen/kijkdag-oldtimerverkoop_10671.aspx
LAST-MODIFIED:20260420T094323Z
LOCATION:Javanastraat 71\, 3680 Maaseik\, BE
SEQUENCE:0
STATUS:CONFIRMED
SUMMARY:Kijkdag oldtimerverkoop
TRANSP:OPAQUE
END:VEVENT
END:VCALENDAR
