BEGIN:VCALENDAR
PRODID:-//Compnay Inc//Product Application//EN
VERSION:2.0
METHOD:PUBLISH
BEGIN:VEVENT
DTSTART:20180321T230000Z
DTEND:20180325T215900Z
DTSTAMP:20260422T084718Z
UID:bad6c57b-8031-4f16-9cfb-b5c28f8ee77a
CREATED:20260422T084718Z
DESCRIPTION:https://www.oldtimerweb.nl/oldtimer-evenementen/retro-classics_10630.aspx
LAST-MODIFIED:20260422T084718Z
LOCATION:Messepiazza 1\, 70629 Stuttgart\, DE
SEQUENCE:0
STATUS:CONFIRMED
SUMMARY:Retro Classics
TRANSP:OPAQUE
END:VEVENT
END:VCALENDAR
