BEGIN:VCALENDAR
PRODID:-//Compnay Inc//Product Application//EN
VERSION:2.0
METHOD:PUBLISH
BEGIN:VEVENT
DTSTART:20180707T220000Z
DTEND:20180708T215900Z
DTSTAMP:20260419T131956Z
UID:a5a6da04-dbec-4f91-af5f-7094ea468eab
CREATED:20260419T131956Z
DESCRIPTION:https://www.oldtimerweb.nl/oldtimer-evenementen/mg-beach-meeting_10477.aspx
LAST-MODIFIED:20260419T131956Z
LOCATION:Meerlaan32\, 8300 Knokke-Heist\, BE
SEQUENCE:0
STATUS:CONFIRMED
SUMMARY:MG Beach Meeting
TRANSP:OPAQUE
END:VEVENT
END:VCALENDAR
