BEGIN:VCALENDAR
PRODID:-//Compnay Inc//Product Application//EN
VERSION:2.0
METHOD:PUBLISH
BEGIN:VEVENT
DTSTART:20180414T220000Z
DTEND:20180415T215900Z
DTSTAMP:20260422T085807Z
UID:bcc79e41-0a71-4b3c-be8f-88d18495191f
CREATED:20260422T085807Z
DESCRIPTION:https://www.oldtimerweb.nl/oldtimer-evenementen/miles-for-charity-autorally-toertocht_10440.aspx
LAST-MODIFIED:20260422T085807Z
LOCATION:Koppenhoefstraat 14\, 5283 VK Boxtel\, NL
SEQUENCE:0
STATUS:CONFIRMED
SUMMARY:Miles for Charity Autorally - Toertocht
TRANSP:OPAQUE
END:VEVENT
END:VCALENDAR
