BEGIN:VCALENDAR
PRODID:-//Compnay Inc//Product Application//EN
VERSION:2.0
METHOD:PUBLISH
BEGIN:VEVENT
DTSTART:20180520T220000Z
DTEND:20180521T215900Z
DTSTAMP:20260424T084711Z
UID:0c405104-724f-4e68-a854-6c1463479a4d
CREATED:20260424T084711Z
DESCRIPTION:https://www.oldtimerweb.nl/oldtimer-evenementen/8e-verkenningsrit-pre-1990_10269.aspx
LAST-MODIFIED:20260424T084711Z
LOCATION:Keizer Karelplein\, 4551 Sas van Gent\, NL
SEQUENCE:0
STATUS:CONFIRMED
SUMMARY:8e verkenningsrit pré 1990
TRANSP:OPAQUE
END:VEVENT
END:VCALENDAR
